BEGIN:VCALENDAR
VERSION:2.0
PRODID:-//Colington Harbour Association - ECPv6.15.20//NONSGML v1.0//EN
CALSCALE:GREGORIAN
METHOD:PUBLISH
X-WR-CALNAME:Colington Harbour Association
X-ORIGINAL-URL:https://colingtonharbour.net
X-WR-CALDESC:Events for Colington Harbour Association
REFRESH-INTERVAL;VALUE=DURATION:PT1H
X-Robots-Tag:noindex
X-PUBLISHED-TTL:PT1H
BEGIN:VTIMEZONE
TZID:America/New_York
BEGIN:DAYLIGHT
TZOFFSETFROM:-0500
TZOFFSETTO:-0400
TZNAME:EDT
DTSTART:20250309T070000
END:DAYLIGHT
BEGIN:STANDARD
TZOFFSETFROM:-0400
TZOFFSETTO:-0500
TZNAME:EST
DTSTART:20251102T060000
END:STANDARD
BEGIN:DAYLIGHT
TZOFFSETFROM:-0500
TZOFFSETTO:-0400
TZNAME:EDT
DTSTART:20260308T070000
END:DAYLIGHT
BEGIN:STANDARD
TZOFFSETFROM:-0400
TZOFFSETTO:-0500
TZNAME:EST
DTSTART:20261101T060000
END:STANDARD
BEGIN:DAYLIGHT
TZOFFSETFROM:-0500
TZOFFSETTO:-0400
TZNAME:EDT
DTSTART:20270314T070000
END:DAYLIGHT
BEGIN:STANDARD
TZOFFSETFROM:-0400
TZOFFSETTO:-0500
TZNAME:EST
DTSTART:20271107T060000
END:STANDARD
END:VTIMEZONE
BEGIN:VEVENT
DTSTART;TZID=America/New_York:20260609T080000
DTEND;TZID=America/New_York:20260609T093000
DTSTAMP:20260422T182041
CREATED:20251225T191048Z
LAST-MODIFIED:20251225T191048Z
UID:6048-1780992000-1780997400@colingtonharbour.net
SUMMARY:Board Meeting
DESCRIPTION:
URL:https://colingtonharbour.net/event/board-meeting-9/
LOCATION:Clubhouse
END:VEVENT
BEGIN:VEVENT
DTSTART;TZID=America/New_York:20260714T080000
DTEND;TZID=America/New_York:20260714T093000
DTSTAMP:20260422T182041
CREATED:20251225T191135Z
LAST-MODIFIED:20251225T191135Z
UID:6050-1784016000-1784021400@colingtonharbour.net
SUMMARY:Board Meeting
DESCRIPTION:
URL:https://colingtonharbour.net/event/board-meeting-10/
LOCATION:Clubhouse
END:VEVENT
BEGIN:VEVENT
DTSTART;TZID=America/New_York:20260721T190000
DTEND;TZID=America/New_York:20260721T210000
DTSTAMP:20260422T182041
CREATED:20251225T191225Z
LAST-MODIFIED:20251225T191225Z
UID:6052-1784660400-1784667600@colingtonharbour.net
SUMMARY:Board Meeting
DESCRIPTION:
URL:https://colingtonharbour.net/event/board-meeting-11/
LOCATION:Clubhouse
END:VEVENT
BEGIN:VEVENT
DTSTART;TZID=America/New_York:20260811T080000
DTEND;TZID=America/New_York:20260811T093000
DTSTAMP:20260422T182041
CREATED:20251225T191309Z
LAST-MODIFIED:20251225T191309Z
UID:6054-1786435200-1786440600@colingtonharbour.net
SUMMARY:Board Meeting
DESCRIPTION:
URL:https://colingtonharbour.net/event/board-meeting-12/
LOCATION:Clubhouse
END:VEVENT
BEGIN:VEVENT
DTSTART;TZID=America/New_York:20260908T080000
DTEND;TZID=America/New_York:20260908T093000
DTSTAMP:20260422T182041
CREATED:20251225T191350Z
LAST-MODIFIED:20251225T191350Z
UID:6056-1788854400-1788859800@colingtonharbour.net
SUMMARY:Board Meeting
DESCRIPTION:
URL:https://colingtonharbour.net/event/board-meeting-13/
LOCATION:Clubhouse
END:VEVENT
BEGIN:VEVENT
DTSTART;TZID=America/New_York:20260915T190000
DTEND;TZID=America/New_York:20260915T210000
DTSTAMP:20260422T182041
CREATED:20251225T191432Z
LAST-MODIFIED:20251225T191432Z
UID:6058-1789498800-1789506000@colingtonharbour.net
SUMMARY:Board Meeting
DESCRIPTION:
URL:https://colingtonharbour.net/event/board-meeting-14/
LOCATION:Clubhouse
END:VEVENT
BEGIN:VEVENT
DTSTART;TZID=America/New_York:20261013T080000
DTEND;TZID=America/New_York:20261013T093000
DTSTAMP:20260422T182041
CREATED:20251225T191515Z
LAST-MODIFIED:20251225T191515Z
UID:6060-1791878400-1791883800@colingtonharbour.net
SUMMARY:Board Meeting
DESCRIPTION:
URL:https://colingtonharbour.net/event/board-meeting-15/
LOCATION:Clubhouse
END:VEVENT
BEGIN:VEVENT
DTSTART;TZID=America/New_York:20261110T080000
DTEND;TZID=America/New_York:20261110T093000
DTSTAMP:20260422T182041
CREATED:20251225T191618Z
LAST-MODIFIED:20251225T191618Z
UID:6062-1794297600-1794303000@colingtonharbour.net
SUMMARY:Board Meeting
DESCRIPTION:
URL:https://colingtonharbour.net/event/board-meeting-16/
LOCATION:Clubhouse
END:VEVENT
BEGIN:VEVENT
DTSTART;TZID=America/New_York:20261117T190000
DTEND;TZID=America/New_York:20261117T210000
DTSTAMP:20260422T182041
CREATED:20251225T191721Z
LAST-MODIFIED:20251225T191721Z
UID:6064-1794942000-1794949200@colingtonharbour.net
SUMMARY:Board Meeting
DESCRIPTION:
URL:https://colingtonharbour.net/event/board-meeting-17/
LOCATION:Clubhouse
END:VEVENT
BEGIN:VEVENT
DTSTART;TZID=America/New_York:20261208T080000
DTEND;TZID=America/New_York:20261208T093000
DTSTAMP:20260422T182041
CREATED:20251225T191805Z
LAST-MODIFIED:20251225T191805Z
UID:6066-1796716800-1796722200@colingtonharbour.net
SUMMARY:Board Meeting
DESCRIPTION:
URL:https://colingtonharbour.net/event/board-meeting-18/
LOCATION:Clubhouse
END:VEVENT
END:VCALENDAR